BEGIN:VCALENDAR
VERSION:2.0
PRODID:-//GRABNC - ECPv6.15.18//NONSGML v1.0//EN
CALSCALE:GREGORIAN
METHOD:PUBLISH
X-WR-CALNAME:GRABNC
X-ORIGINAL-URL:https://grabnc.org
X-WR-CALDESC:Events for GRABNC
REFRESH-INTERVAL;VALUE=DURATION:PT1H
X-Robots-Tag:noindex
X-PUBLISHED-TTL:PT1H
BEGIN:VTIMEZONE
TZID:America/New_York
BEGIN:DAYLIGHT
TZOFFSETFROM:-0500
TZOFFSETTO:-0400
TZNAME:EDT
DTSTART:20250309T070000
END:DAYLIGHT
BEGIN:STANDARD
TZOFFSETFROM:-0400
TZOFFSETTO:-0500
TZNAME:EST
DTSTART:20251102T060000
END:STANDARD
BEGIN:DAYLIGHT
TZOFFSETFROM:-0500
TZOFFSETTO:-0400
TZNAME:EDT
DTSTART:20260308T070000
END:DAYLIGHT
BEGIN:STANDARD
TZOFFSETFROM:-0400
TZOFFSETTO:-0500
TZNAME:EST
DTSTART:20261101T060000
END:STANDARD
BEGIN:DAYLIGHT
TZOFFSETFROM:-0500
TZOFFSETTO:-0400
TZNAME:EDT
DTSTART:20270314T070000
END:DAYLIGHT
BEGIN:STANDARD
TZOFFSETFROM:-0400
TZOFFSETTO:-0500
TZNAME:EST
DTSTART:20271107T060000
END:STANDARD
END:VTIMEZONE
BEGIN:VEVENT
DTSTART;TZID=America/New_York:20260604T180000
DTEND;TZID=America/New_York:20260604T200000
DTSTAMP:20260421T202312
CREATED:20260115T042808Z
LAST-MODIFIED:20260120T005326Z
UID:6719-1780596000-1780603200@grabnc.org
SUMMARY:GRABNC Meeting
DESCRIPTION:Our monthly meetings strike the right balance between real networking\, practical learning\, and meaningful community connection. Most meetings feature a strong\, relevant speaker delivering insights you can use\, updates from local community leaders who matter\, and a quality catered meal so conversations can happen naturally. \n  \nSpeaker: TBD \nCatered by: LA’s Catering
URL:https://grabnc.org/joinus/grabnc-meeting-3/
LOCATION:Pleasant Garden Fire Dept\, 4814 Pleasant Garden Rd\, Pleasant Garden\, NC\, 27313\, United States
END:VEVENT
BEGIN:VEVENT
DTSTART;VALUE=DATE:20260702
DTEND;VALUE=DATE:20260703
DTSTAMP:20260421T202312
CREATED:20260120T005725Z
LAST-MODIFIED:20260120T005725Z
UID:6808-1782950400-1783036799@grabnc.org
SUMMARY:GRABNC-No Meeting
DESCRIPTION:No meeting this month.Wishing everyone a safe and happy 4th of July! 🎆
URL:https://grabnc.org/joinus/grabnc-no-meeting/
LOCATION:NC
END:VEVENT
BEGIN:VEVENT
DTSTART;TZID=America/New_York:20260806T180000
DTEND;TZID=America/New_York:20260806T200000
DTSTAMP:20260421T202312
CREATED:20260115T042808Z
LAST-MODIFIED:20260120T005404Z
UID:6715-1786039200-1786046400@grabnc.org
SUMMARY:GRABNC Cookout
DESCRIPTION:Our monthly meetings strike the right balance between real networking\, practical learning\, and meaningful community connection. Most meetings feature a strong\, relevant speaker delivering insights you can use\, updates from local community leaders who matter\, and a quality catered meal so conversations can happen naturally. \nSpeaker: TBD \nCatered by: Group Cookout
URL:https://grabnc.org/joinus/grabnc-meeting/
LOCATION:Pleasant Neighbors\, 4734 Pleasant Garden Rd\, Pleasant Garden\, NC\, 27313\, United States
END:VEVENT
BEGIN:VEVENT
DTSTART;TZID=America/New_York:20260903T180000
DTEND;TZID=America/New_York:20260903T200000
DTSTAMP:20260421T202312
CREATED:20260115T042810Z
LAST-MODIFIED:20260120T005427Z
UID:6720-1788458400-1788465600@grabnc.org
SUMMARY:GRABNC Meeting
DESCRIPTION:Our monthly meetings strike the right balance between real networking\, practical learning\, and meaningful community connection. Most meetings feature a strong\, relevant speaker delivering insights you can use\, updates from local community leaders who matter\, and a quality catered meal so conversations can happen naturally. \nSpeaker: TBD \nCatered by: LA’s Catering
URL:https://grabnc.org/joinus/grabnc-meeting-4/
LOCATION:Pleasant Garden Fire Dept\, 4814 Pleasant Garden Rd\, Pleasant Garden\, NC\, 27313\, United States
END:VEVENT
BEGIN:VEVENT
DTSTART;TZID=America/New_York:20261001T180000
DTEND;TZID=America/New_York:20261001T200000
DTSTAMP:20260421T202312
CREATED:20260115T042810Z
LAST-MODIFIED:20260120T010904Z
UID:6722-1790877600-1790884800@grabnc.org
SUMMARY:GRABNC Meeting
DESCRIPTION:Our monthly meetings strike the right balance between real networking\, practical learning\, and meaningful community connection. Most meetings feature a strong\, relevant speaker delivering insights you can use\, updates from local community leaders who matter\, and a quality catered meal so conversations can happen naturally. \nSpeaker: TBD \nCatered by: Capri’s Pizza
URL:https://grabnc.org/joinus/grabnc-meeting-6/
LOCATION:Pleasant Garden Fire Dept\, 4814 Pleasant Garden Rd\, Pleasant Garden\, NC\, 27313\, United States
END:VEVENT
BEGIN:VEVENT
DTSTART;TZID=America/New_York:20261105T180000
DTEND;TZID=America/New_York:20261105T200000
DTSTAMP:20260421T202312
CREATED:20260115T042826Z
LAST-MODIFIED:20260120T005510Z
UID:6732-1793901600-1793908800@grabnc.org
SUMMARY:GRABNC Friendsgiving
DESCRIPTION:Our monthly meetings strike the right balance between real networking\, practical learning\, and meaningful community connection. Most meetings feature a strong\, relevant speaker delivering insights you can use\, updates from local community leaders who matter\, and a quality catered meal so conversations can happen naturally. \n  \nSpeaker: TBD \nCatered by: TBD
URL:https://grabnc.org/joinus/grabnc-meeting-10/
LOCATION:Pleasant Garden Fire Dept\, 4814 Pleasant Garden Rd\, Pleasant Garden\, NC\, 27313\, United States
END:VEVENT
BEGIN:VEVENT
DTSTART;TZID=America/New_York:20261203T180000
DTEND;TZID=America/New_York:20261203T200000
DTSTAMP:20260421T202312
CREATED:20260115T042810Z
LAST-MODIFIED:20260120T010001Z
UID:6724-1796320800-1796328000@grabnc.org
SUMMARY:GRABNC Christmas Party
DESCRIPTION:Our monthly meetings strike the right balance between real networking\, practical learning\, and meaningful community connection. Most meetings feature a strong\, relevant speaker delivering insights you can use\, updates from local community leaders who matter\, and a quality catered meal so conversations can happen naturally. \nSpeaker: None–Christmas Party \nCatered by: TBD \nLocation: Forest Oaks CC (Still to be determined)
URL:https://grabnc.org/joinus/grabnc-christmas-party-2/
LOCATION:Forest Oaks CC\, 4600 Forest Oaks Dr\, Greensboro\, NC\, 27406\, United States
END:VEVENT
END:VCALENDAR