BEGIN:VCALENDAR
VERSION:2.0
PRODID:-//GRABNC - ECPv6.15.18//NONSGML v1.0//EN
CALSCALE:GREGORIAN
METHOD:PUBLISH
X-ORIGINAL-URL:https://grabnc.org
X-WR-CALDESC:Events for GRABNC
REFRESH-INTERVAL;VALUE=DURATION:PT1H
X-Robots-Tag:noindex
X-PUBLISHED-TTL:PT1H
BEGIN:VTIMEZONE
TZID:America/New_York
BEGIN:DAYLIGHT
TZOFFSETFROM:-0500
TZOFFSETTO:-0400
TZNAME:EDT
DTSTART:20250309T070000
END:DAYLIGHT
BEGIN:STANDARD
TZOFFSETFROM:-0400
TZOFFSETTO:-0500
TZNAME:EST
DTSTART:20251102T060000
END:STANDARD
BEGIN:DAYLIGHT
TZOFFSETFROM:-0500
TZOFFSETTO:-0400
TZNAME:EDT
DTSTART:20260308T070000
END:DAYLIGHT
BEGIN:STANDARD
TZOFFSETFROM:-0400
TZOFFSETTO:-0500
TZNAME:EST
DTSTART:20261101T060000
END:STANDARD
BEGIN:DAYLIGHT
TZOFFSETFROM:-0500
TZOFFSETTO:-0400
TZNAME:EDT
DTSTART:20270314T070000
END:DAYLIGHT
BEGIN:STANDARD
TZOFFSETFROM:-0400
TZOFFSETTO:-0500
TZNAME:EST
DTSTART:20271107T060000
END:STANDARD
END:VTIMEZONE
BEGIN:VEVENT
DTSTART;TZID=America/New_York:20260502T170000
DTEND;TZID=America/New_York:20260502T220000
DTSTAMP:20260421T061104
CREATED:20260331T201624Z
LAST-MODIFIED:20260331T204059Z
UID:7687-1777741200-1777759200@grabnc.org
SUMMARY:Southeast Guilford Community Foundation-Derby Party
DESCRIPTION:GRABNC is proud to support the Derby Party\,\nhosted by the Southeast Guilford Community Foundation🎉. \nSaturday\, May 2nd from 5–10 PM \nMoose Lodge\n5031 Blakeshire Rd\nGreensboro\, NC 27406 \nSteak dinner\, drink ticket\, cash bar\, derby games\, a live DJ\, and the chance to dress your Derby best 🐎🎶. \n🎟️ Tickets are $65 per person\, and every dollar goes toward something meaningful.\nProceeds from this event directly support the Southeast Guilford Community Foundation’s Education Grant Program 📚—\nhelping invest in students and the future of our local community. It’s a great opportunity to connect\, celebrate\, and give back all in one night. \n 
URL:https://grabnc.org/joinus/southeast-guilford-community-foundation-derby-party/
LOCATION:Moose Lodge\, 5031 Blakeshire Rd\, Greensboro\, NC\, 27406\, United States
ORGANIZER;CN="Dan Rogers":MAILTO:daniel.o.rogers@gmail.com
END:VEVENT
END:VCALENDAR